BEGIN:VCALENDAR
VERSION:2.0
PRODID:-//AVAWARE - ECPv6.15.20//NONSGML v1.0//EN
CALSCALE:GREGORIAN
METHOD:PUBLISH
X-WR-CALNAME:AVAWARE
X-ORIGINAL-URL:https://avaware.ca
X-WR-CALDESC:Events for AVAWARE
REFRESH-INTERVAL;VALUE=DURATION:PT1H
X-Robots-Tag:noindex
X-PUBLISHED-TTL:PT1H
BEGIN:VTIMEZONE
TZID:America/Vancouver
BEGIN:DAYLIGHT
TZOFFSETFROM:-0800
TZOFFSETTO:-0700
TZNAME:PDT
DTSTART:20200308T100000
END:DAYLIGHT
BEGIN:STANDARD
TZOFFSETFROM:-0700
TZOFFSETTO:-0800
TZNAME:PST
DTSTART:20201101T090000
END:STANDARD
BEGIN:DAYLIGHT
TZOFFSETFROM:-0800
TZOFFSETTO:-0700
TZNAME:PDT
DTSTART:20210314T100000
END:DAYLIGHT
BEGIN:STANDARD
TZOFFSETFROM:-0700
TZOFFSETTO:-0800
TZNAME:PST
DTSTART:20211107T090000
END:STANDARD
BEGIN:DAYLIGHT
TZOFFSETFROM:-0800
TZOFFSETTO:-0700
TZNAME:PDT
DTSTART:20220313T100000
END:DAYLIGHT
BEGIN:STANDARD
TZOFFSETFROM:-0700
TZOFFSETTO:-0800
TZNAME:PST
DTSTART:20221106T090000
END:STANDARD
END:VTIMEZONE
BEGIN:VEVENT
DTSTART;TZID=America/Vancouver:20211218T083000
DTEND;TZID=America/Vancouver:20211219T170000
DTSTAMP:20260422T062002
CREATED:20211025T180709Z
LAST-MODIFIED:20211025T181326Z
UID:528-1639816200-1639933200@avaware.ca
SUMMARY:AST Level 1 Snowbike/Sledding Course
DESCRIPTION:Innerspace Watersports is back at it again! They sell out over course they host. Don’t miss out. \nBrooke will get you set up with everything you need to get prepared for a safe adventure in the mountains. They specialize in Snow Bike Products but carry a wide variety of Sledding brands as well. \nDay 1 in Store and Outside: Learning Theory and basic rescue techniques. \nDay two: (Field day) Hunter Range snowmobile Club \nVernon (Course Location): 250 \nKelowna:
URL:https://avaware.ca/course/ast-level-1-snowbike-sledding-course/
ORGANIZER;CN="Innerspace Watersports":MAILTO:brad@avaware.ca
END:VEVENT
BEGIN:VEVENT
DTSTART;TZID=America/Vancouver:20211211T083000
DTEND;TZID=America/Vancouver:20211212T170000
DTSTAMP:20260422T062002
CREATED:20211025T174351Z
LAST-MODIFIED:20211025T175743Z
UID:526-1639211400-1639328400@avaware.ca
SUMMARY:Ladies Sledding AST Level 1 Course
DESCRIPTION:This one is for the Ladies\, sorry Gents you’ll have to wait for the December 18-19 course with Innerspace Watersports. \nONLY 1 SPOT LEFT!!
URL:https://avaware.ca/course/ladies-sledding-ast-level-1-course/
END:VEVENT
BEGIN:VEVENT
DTSTART;TZID=America/Vancouver:20211211T083000
DTEND;TZID=America/Vancouver:20211212T170000
DTSTAMP:20260422T062002
CREATED:20211025T171841Z
LAST-MODIFIED:20211025T185249Z
UID:524-1639211400-1639328400@avaware.ca
SUMMARY:AST Level 1 Alpine Club of Canada
DESCRIPTION:ACC Members Course. Please contact the ACC for a membership before Registering. \nThis introductory Avalanche Skill Training Level 1 – Anyone interested in learning more about Backcountry safety and preparation will benefit from this 2 day course. The only gear each participant will require is there alpine skitouring or Split board set up and a Transceiver\, Shovel and Probe. Limited rentals are available. \nSpots booked at www.avaware.ca/registration/\n**Spots reserved for Alpine Club of Canada Members
URL:https://avaware.ca/course/ast-level-1-alpine-club-of-canada/
CATEGORIES:AST 1
END:VEVENT
BEGIN:VEVENT
DTSTART;TZID=America/Vancouver:20211204T083000
DTEND;TZID=America/Vancouver:20211205T170000
DTSTAMP:20260422T062002
CREATED:20211025T170518Z
LAST-MODIFIED:20211106T063306Z
UID:522-1638606600-1638723600@avaware.ca
SUMMARY:AST Level 1 Ski/Board
DESCRIPTION:This introductory Avalanche Skill Training Level 1 will take place in Vernon\, B.C. The First day and a near by touring area on the Second day \nThis is a great way for those interested in learning more about backcountry safety\, ski/splitboard touring techniques\, terrain assessment and snowpack evaluation will benefit from this 2 day course. The Gear required for this course will include Alpine Touring ski’s or Split board and a Digital 3 antenna Transceiver\, Shovel and Probe. Limited rentals available. \n2 of 8 spots remain open. Don’t wait!!
URL:https://avaware.ca/course/ast-level-1-ski-board/
CATEGORIES:AST 1
END:VEVENT
BEGIN:VEVENT
DTSTART;TZID=America/Vancouver:20211127T083000
DTEND;TZID=America/Vancouver:20211128T163000
DTSTAMP:20260422T062002
CREATED:20211025T072347Z
LAST-MODIFIED:20211109T004756Z
UID:520-1638001800-1638117000@avaware.ca
SUMMARY:AST Level 1 Backcountry Ski/Board FULL
DESCRIPTION:This introductory Avalanche Skill Training Level 1 will take place in Vernon\, B.C. The First day and a near by touring area on the Second day \nThis is a great way for those interested in learning more about backcountry safety\, ski/splitboard touring techniques\, terrain assessment and snowpack evaluation will benefit from this 2 day course. The Gear required for this course will include Alpine Touring ski’s or Split board and a Digital 3 antenna Transceiver\, Shovel and Probe. Limited rentals available. \nSOLD OUT \n 
URL:https://avaware.ca/course/ast-level-1-2/
END:VEVENT
END:VCALENDAR